BEGIN:VCALENDAR
VERSION:2.0
PRODID:-//ChamberMaster//Event Calendar 2.0//EN
METHOD:PUBLISH
X-PUBLISHED-TTL:P3D
REFRESH-INTERVAL:P3D
CALSCALE:GREGORIAN
BEGIN:VEVENT
DTSTART:20230920T150000Z
DTEND:20230920T170000Z
X-MICROSOFT-CDO-ALLDAYEVENT:FALSE
SUMMARY:What's Behind the Numbers?
DESCRIPTION:Are you managing your business finances effectively?\n\n\n\nLearn how to improve your bottom line by understanding the financial statements! Information on the financial position of a business supports decision-making. These numbers also indicate a business' current and past performance\, and a business owner can use them to determine how move the business forward.\n\n\n\nSession highlights:\n\nLearn about the Financial Statements.\n\nUnderstand how to manage the financial operations of a business using these documents.\n\nUse the financial statements for business growth strategies.\n\n*This in-person session is presented by the UTRGV SBDC and co-hosted by the RGV Hispanic Chamber of Commerce.
X-ALT-DESC;FMTTYPE=text/html:<p style="margin: 0px\; color: rgb(32\, 33\, 36)\; font-family: Roboto\, Arial\, sans-serif\; font-size: 14.6667px\; white-space-collapse: preserve\; background-color: rgb(255\, 255\, 255)\;"><b>Are you managing your business finances effectively?</b><br />\n<br />\nLearn how to improve your bottom line by understanding the financial statements! Information on the financial position of a business supports decision-making. These numbers also indicate a business&rsquo\; current and past performance\, and a business owner can use them to determine how move the business forward.<br />\n<br />\n<b>Session highlights:</b><br />\nLearn about the Financial Statements.<br />\nUnderstand how to manage the financial operations of a business using these documents.<br />\nUse the financial statements for business growth strategies.</p>\n\n<p style="margin-bottom: 0px\; color: rgb(32\, 33\, 36)\; font-family: Roboto\, Arial\, sans-serif\; font-size: 14.6667px\; white-space-collapse: preserve\; background-color: rgb(255\, 255\, 255)\;">*This in-person session is presented by the UTRGV SBDC and co-hosted by the RGV Hispanic Chamber of Commerce.</p>\n
LOCATION:RGV Hispanic Chamber of Commerce | EBC at the District | 801 E Fern Ave | McAllen\, TX
UID:e.3411.621
SEQUENCE:3
DTSTAMP:20260424T163437Z
URL:https://business.rgvhcc.org/events/details/what-s-behind-the-numbers-621
END:VEVENT

END:VCALENDAR
