BEGIN:VCALENDAR
VERSION:2.0
PRODID:-//ChamberMaster//Event Calendar 2.0//EN
METHOD:PUBLISH
X-PUBLISHED-TTL:P3D
REFRESH-INTERVAL:P3D
CALSCALE:GREGORIAN
BEGIN:VEVENT
DTSTART:20251105T160000Z
DTEND:20251105T230000Z
X-MICROSOFT-CDO-ALLDAYEVENT:FALSE
SUMMARY:The Manual for Success Men's Conference & Expo 2025
DESCRIPTION:Embark on a professional journey at the RGV Hispanic Chamber's Men's Conference. Our conference will feature dynamic discussions on key topics crucial to achieving success and fulfillment in various aspects of life.\n\nDive into essential topics such as financial readiness\, mental and physical wellness\, the importance of connections\, resilience in the face of change\, and leadership for today's new world. Our expert panelists will provide educational insights to fortify you personally and professionally.\n\n\n\nCap off the conference day with our exclusive Cigar & Whiskey Networking Mixer\, creating connections and camaraderie in a relaxed setting. Join us for a day of professional growth\, networking\, and business strategy-building!
X-ALT-DESC;FMTTYPE=text/html:<div animation-name:="" background-color:="" class="xdj266r x11i5rnm xat24cr x1mh8g0r x1vvkbs" color:="" font-size:="" none="" style="margin: 0px\; overflow-wrap: break-word\; font-family: system-ui\, -apple-system\, " transition-property:=""><span style="font-size:14px\;"><span style="font-family:arial\;">Embark on a professional journey at the RGV Hispanic Chamber&#39\;s Men&#39\;s Conference. Our conference will feature dynamic discussions on key topics crucial to achieving success and fulfillment in various aspects of life.</span></span></div>\n\n<div animation-name:="" background-color:="" class="x11i5rnm xat24cr x1mh8g0r x1vvkbs xtlvy1s" color:="" font-size:="" none="" style="margin: 0.5em 0px 0px\; overflow-wrap: break-word\; font-family: system-ui\, -apple-system\, " transition-property:=""><span style="font-size:14px\;"><span style="font-family:arial\;">Dive into essential topics such as financial readiness\, mental and physical wellness\, the importance of connections\, resilience in the face of change\, and leadership for today&#39\;s new world. Our expert panelists will provide educational insights to fortify you personally and professionally.</span></span></div>\n\n<div animation-name:="" background-color:="" class="x11i5rnm xat24cr x1mh8g0r x1vvkbs xtlvy1s" color:="" font-size:="" none="" style="margin: 0.5em 0px 0px\; overflow-wrap: break-word\; font-family: system-ui\, -apple-system\, " transition-property:="">\n<div style="border: 0px solid rgb(217\, 217\, 227)\; box-sizing: border-box\; --tw-border-spacing-x: 0\; --tw-border-spacing-y: 0\; --tw-translate-x: 0\; --tw-translate-y: 0\; --tw-rotate: 0\; --tw-skew-x: 0\; --tw-skew-y: 0\; --tw-scale-x: 1\; --tw-scale-y: 1\; --tw-pan-x: \; --tw-pan-y: \; --tw-pinch-zoom: \; --tw-scroll-snap-strictness: proximity\; --tw-gradient-from-position: \; --tw-gradient-via-position: \; --tw-gradient-to-position: \; --tw-ordinal: \; --tw-slashed-zero: \; --tw-numeric-figure: \; --tw-numeric-spacing: \; --tw-numeric-fraction: \; --tw-ring-inset: \; --tw-ring-offset-width: 0px\; --tw-ring-offset-color: #fff\; --tw-ring-color: rgba(69\,89\,164\,.5)\; --tw-ring-offset-shadow: 0 0 transparent\; --tw-ring-shadow: 0 0 transparent\; --tw-shadow: 0 0 transparent\; --tw-shadow-colored: 0 0 transparent\; --tw-blur: \; --tw-brightness: \; --tw-contrast: \; --tw-grayscale: \; --tw-hue-rotate: \; --tw-invert: \; --tw-saturate: \; --tw-sepia: \; --tw-drop-shadow: \; --tw-backdrop-blur: \; --tw-backdrop-brightness: \; --tw-backdrop-contrast: \; --tw-backdrop-grayscale: \; --tw-backdrop-hue-rotate: \; --tw-backdrop-invert: \; --tw-backdrop-opacity: \; --tw-backdrop-saturate: \; --tw-backdrop-sepia: \; margin-bottom: 0px\; margin-top: 0px\; padding-left: 0.375em\; counter-increment: list-number 1\; display: block\; min-height: 28px\;">\n<div animation-name:="" class="x11i5rnm xat24cr x1mh8g0r x1vvkbs xtlvy1s" color:="" font-size:="" none="" style="background-color: rgb(255\, 255\, 255)\; margin: 0.5em 0px 0px\; overflow-wrap: break-word\; font-family: system-ui\, -apple-system\, " transition-property:=""><span style="font-size:14px\;"><span style="font-family:arial\;">Cap off the conference day with our exclusive Cigar &amp\; Whiskey Networking Mixer\, creating connections and camaraderie in a relaxed setting. Join us for a day of professional growth\, networking\, and business strategy-building!</span></span><br />\n&nbsp\;</div>\n</div>\n</div>\n
LOCATION:Memorial Event Center
UID:e.3411.890
SEQUENCE:3
DTSTAMP:20260421T143156Z
URL:https://business.rgvhcc.org/events/details/the-manual-for-success-men-s-conference-expo-2025-890
END:VEVENT

END:VCALENDAR
