BEGIN:VCALENDAR
VERSION:2.0
PRODID:-//ChamberMaster//Event Calendar 2.0//EN
METHOD:PUBLISH
X-PUBLISHED-TTL:P3D
REFRESH-INTERVAL:P3D
CALSCALE:GREGORIAN
BEGIN:VEVENT
DTSTART:20230525T150000Z
DTEND:20230525T170000Z
X-MICROSOFT-CDO-ALLDAYEVENT:FALSE
SUMMARY:The HR Process
DESCRIPTION:The HR Process covers the appropriate steps to take when planning for human resources in a small business\, including what each step entails and its importance.
X-ALT-DESC;FMTTYPE=text/html:<span style="color: rgb(35\, 35\, 51)\; font-family: &quot\;Helvetica Neue&quot\;\, Helvetica\, Arial\, sans-serif\; font-size: 14px\; white-space: pre-wrap\; background-color: rgb(255\, 255\, 255)\;">The HR Process covers the appropriate steps to take when planning for human resources in a small business\, including what each step entails and its importance.</span>
LOCATION:
UID:e.3411.542
SEQUENCE:3
DTSTAMP:20260424T211134Z
URL:https://business.rgvhcc.org/events/details/the-hr-process-542
END:VEVENT

END:VCALENDAR
