BEGIN:VCALENDAR
VERSION:2.0
PRODID:-//ChamberMaster//Event Calendar 2.0//EN
METHOD:PUBLISH
X-PUBLISHED-TTL:P3D
REFRESH-INTERVAL:P3D
CALSCALE:GREGORIAN
BEGIN:VEVENT
DTSTART:20240223T160000Z
DTEND:20240223T173000Z
X-MICROSOFT-CDO-ALLDAYEVENT:FALSE
SUMMARY:Tax Tips for Small Businesses Webinar
DESCRIPTION:Learn TIPS ABOUT taxes from Tania han cpa\n\n-Employee expenses\n\n-contract labor\n\n-home office tax tips\n\n-retirement contributions\n\n-business travel\n\n-Itemizing tax deductions
X-ALT-DESC;FMTTYPE=text/html:<p class="_04xlpA direction-ltr align-center para-style-title" style="color: rgb(252\, 255\, 254)\; font-family: &quot\;YACgEXR5pFE 0&quot\;\, _fb_\, auto\; --font-size:69.3341px\; --line-height:0.9\; letter-spacing: -0.01em\; text-transform: uppercase\; line-height: 62px\;"><span class="JsGRdQ" style="font-weight: 700\; color: rgb(51\, 68\, 60)\;">Learn TIPS ABOUT taxes from Tania han cpa</span></p>\n\n<p class="_04xlpA direction-ltr align-center para-style-body" style="color: rgb(0\, 0\, 0)\; font-family: &quot\;YACgEXR5pFE 0&quot\;\, _fb_\, auto\; --font-size:24.4156px\; --line-height:0.82\; letter-spacing: -0.01em\; text-transform: uppercase\; line-height: 20px\;"><span style="font-family:arial\;"><span class="JsGRdQ" style="font-weight: 700\;">-Employee expenses</span></span></p>\n\n<p class="_04xlpA direction-ltr align-center para-style-body" style="color: rgb(0\, 0\, 0)\; font-family: &quot\;YACgEXR5pFE 0&quot\;\, _fb_\, auto\; --font-size:24.4156px\; --line-height:0.82\; letter-spacing: -0.01em\; text-transform: uppercase\; line-height: 20px\;"><span style="font-family:arial\;"><span class="JsGRdQ" style="font-weight: 700\;">-contract labor</span></span></p>\n\n<p class="_04xlpA direction-ltr align-center para-style-body" style="color: rgb(0\, 0\, 0)\; font-family: &quot\;YACgEXR5pFE 0&quot\;\, _fb_\, auto\; --font-size:24.4156px\; --line-height:0.82\; letter-spacing: -0.01em\; text-transform: uppercase\; line-height: 20px\;"><span style="font-family:arial\;"><span class="JsGRdQ" style="font-weight: 700\;">-home office tax tips</span></span></p>\n\n<p class="_04xlpA direction-ltr align-center para-style-body" style="color: rgb(0\, 0\, 0)\; font-family: &quot\;YACgEXR5pFE 0&quot\;\, _fb_\, auto\; --font-size:24.4156px\; --line-height:0.82\; letter-spacing: -0.01em\; text-transform: uppercase\; line-height: 20px\;"><span style="font-family:arial\;"><span class="JsGRdQ" style="font-weight: 700\;">-retirement contributions</span></span></p>\n\n<p class="_04xlpA direction-ltr align-center para-style-body" style="color: rgb(0\, 0\, 0)\; font-family: &quot\;YACgEXR5pFE 0&quot\;\, _fb_\, auto\; --font-size:24.4156px\; --line-height:0.82\; letter-spacing: -0.01em\; text-transform: uppercase\; line-height: 20px\;"><span style="font-family:arial\;"><span class="JsGRdQ" style="font-weight: 700\;">-business travel</span></span></p>\n\n<p class="_04xlpA direction-ltr align-center para-style-body" style="color: rgb(0\, 0\, 0)\; font-family: &quot\;YACgEXR5pFE 0&quot\;\, _fb_\, auto\; --font-size:24.4156px\; --line-height:0.82\; letter-spacing: -0.01em\; text-transform: uppercase\; line-height: 20px\;"><span style="font-family:arial\;"><span class="JsGRdQ" style="font-weight: 700\;">-Itemizing tax deductions</span></span></p>\n\n<p class="_04xlpA direction-ltr align-center para-style-title" style="color: rgb(252\, 255\, 254)\; font-family: &quot\;YACgEXR5pFE 0&quot\;\, _fb_\, auto\; --font-size:33.335px\; --line-height:0.9\; letter-spacing: -0.01em\; text-transform: uppercase\; line-height: 30px\;">&nbsp\;</p>\n
LOCATION:webinar https://us06web.zoom.us/j/89725951673?pwd=h8PsDiu8TnGC0Qneq4W681O5iRy0Hr.1 Meeting ID: 897 2595 1673 Passcode: 306269
UID:e.3411.717
SEQUENCE:3
DTSTAMP:20260424T092948Z
URL:https://business.rgvhcc.org/events/details/tax-tips-for-small-businesses-webinar-717
END:VEVENT

END:VCALENDAR
