BEGIN:VCALENDAR
VERSION:2.0
PRODID:-//ChamberMaster//Event Calendar 2.0//EN
METHOD:PUBLISH
X-PUBLISHED-TTL:P3D
REFRESH-INTERVAL:P3D
CALSCALE:GREGORIAN
BEGIN:VEVENT
DTSTART:20240328T150000Z
DTEND:20240328T163000Z
X-MICROSOFT-CDO-ALLDAYEVENT:FALSE
SUMMARY:Surplus Personal Property for Veteran-Owned Small Business Program Webinar
DESCRIPTION:Eligible veteran-owned small businesses can apply to receive federal surplus property. The General Services Administration's (GSA) Federal Surplus Personal Property Donation Program enables certain non-federal organizations to obtain personal property that the federal government no longer needs. Eligible veteran- owned small businesses can now work with the U.S. Small Business Administration (SBA) to access federally owned surplus personal property through the donation program.\n\n\n\nEligibility VOSBs may obtain federal surplus property from the State Agencies for Surplus Property (SASP) in the state where the property will be primarily located and placed in use.In order to meet the eligibility requirements\, the VOSB must be:\n\n\n\n1) Located and operated within the state\,\n\n\n\n2) Unconditionally owned and controlled by one or more eligible veterans\,\n\nservice-disabled veterans\, or surviving spouses\n\n\n\n3) Registered and in "certified" status in SBA's Veteran Small Business\n\nCertification program database\n\n\n\nJoin us thru Zoom Meeting
X-ALT-DESC;FMTTYPE=text/html:Eligible veteran-owned small businesses can apply to receive federal surplus property. The General Services Administration&rsquo\;s (GSA) Federal Surplus Personal Property Donation Program enables certain non-federal organizations to obtain personal property that the federal government no longer needs. Eligible veteran- owned small businesses can now work with the U.S. Small Business Administration (SBA) to access federally owned surplus personal property through the donation program.<br />\n<br />\nEligibility VOSBs may obtain federal surplus property from the State Agencies for Surplus Property (SASP) in the state where the property will be primarily located and placed in use.In order to meet the eligibility requirements\, the VOSB must be:<br />\n<br />\n1) Located and operated within the state\,<br />\n<br />\n2) Unconditionally owned and controlled by one or more eligible veterans\,<br />\nservice-disabled veterans\, or surviving spouses<br />\n<br />\n3) Registered and in &ldquo\;certified&rdquo\; status in SBA&rsquo\;s Veteran Small Business<br />\nCertification program database<br />\n<br />\nJoin us thru Zoom Meeting
LOCATION:Join Zoom Meeting https://us06web.zoom.us/j/84045611334 Meeting ID: 840 4561 1334
UID:e.3411.727
SEQUENCE:3
DTSTAMP:20260424T082524Z
URL:https://business.rgvhcc.org/events/details/surplus-personal-property-for-veteran-owned-small-business-program-webinar-727
END:VEVENT

END:VCALENDAR
