BEGIN:VCALENDAR
VERSION:2.0
PRODID:-//ChamberMaster//Event Calendar 2.0//EN
METHOD:PUBLISH
X-PUBLISHED-TTL:P3D
REFRESH-INTERVAL:P3D
CALSCALE:GREGORIAN
BEGIN:VEVENT
DTSTART:20230607T150000Z
DTEND:20230607T163000Z
X-MICROSOFT-CDO-ALLDAYEVENT:FALSE
SUMMARY:STHS Edinburg Catheterization Lab Grand Opening
DESCRIPTION:South Texas Health System Edinburg cordially invites you to the ribbon cutting event to mark the official opening of the facility's brand new advanced catheterization laboratory. Home to two procedure rooms\, each equipped with Philips Azurion Clarity IQ technology\, STHS Edinburg's catheterization lab will provide diagnostic cardiac catheterization\, peripheral artery disease and peripheral vascular disease services for the people of Edinburg and its surrounding communities.\n\n \n\nDon't miss your chance to view the new technology and hear more about STHS Edinburg's expanded services to bring our patients quality\, compassionate cardiac care.\n\n\n\n \n\nLight refreshments and snacks to be provided.
X-ALT-DESC;FMTTYPE=text/html:<span style="font-size:11pt\;">South Texas Health System Edinburg cordially invites you to the ribbon cutting event to mark the official opening of the facility&rsquo\;s brand new advanced catheterization laboratory. Home to two procedure rooms\, each equipped with Philips Azurion Clarity IQ technology\, STHS Edinburg&rsquo\;s catheterization lab will provide diagnostic cardiac catheterization\, peripheral artery disease and peripheral vascular disease services for the people of Edinburg and its surrounding communities.</span><br />\n&nbsp\;<br />\n<span style="font-size:11pt\;">Don&rsquo\;t miss your chance to view the new technology and hear more about STHS Edinburg&rsquo\;s expanded services to bring our patients quality\, compassionate cardiac care.</span><br />\n<br />\n&nbsp\;<br />\n<span style="font-size:11pt\;">Light refreshments and snacks to be provided.</span><br />\n&nbsp\;
LOCATION:South Texas Health System Edinburg 1102 W. Trenton Rd. Edinburg\, TX 78539
UID:e.3411.552
SEQUENCE:3
DTSTAMP:20260424T200422Z
URL:https://business.rgvhcc.org/events/details/sths-edinburg-catheterization-lab-grand-opening-552
END:VEVENT

END:VCALENDAR
