BEGIN:VCALENDAR
VERSION:2.0
PRODID:-//ChamberMaster//Event Calendar 2.0//EN
METHOD:PUBLISH
X-PUBLISHED-TTL:P3D
REFRESH-INTERVAL:P3D
CALSCALE:GREGORIAN
BEGIN:VEVENT
DTSTART:20230510T190000Z
DTEND:20230510T200000Z
X-MICROSOFT-CDO-ALLDAYEVENT:FALSE
SUMMARY:SBDC Start Smart
DESCRIPTION:Do you have a business idea? Are you interested in starting your own business? \n\n\n\nThis webinar will provide you with the information and steps necessary for a smart start\, plus get you ready for your one-to-one\, business advisement session for ongoing assistance!
X-ALT-DESC;FMTTYPE=text/html:<span style="color: rgb(35\, 35\, 51)\; font-family: &quot\;Helvetica Neue&quot\;\, Helvetica\, Arial\, sans-serif\; font-size: 14px\; white-space: pre-wrap\;">Do you have a business idea? Are you interested in starting your own business? </span><br />\n<br />\n<span style="color: rgb(35\, 35\, 51)\; font-family: &quot\;Helvetica Neue&quot\;\, Helvetica\, Arial\, sans-serif\; font-size: 14px\; white-space: pre-wrap\; background-color: rgb(255\, 255\, 255)\;">This webinar will provide you with the information and steps necessary for a smart start\, plus get you ready for your one-to-one\, business advisement session for ongoing assistance! </span>\n<div>&nbsp\;</div>\n\n<div>&nbsp\;</div>\n
LOCATION:
UID:e.3411.540
SEQUENCE:3
DTSTAMP:20260424T211134Z
URL:https://business.rgvhcc.org/events/details/sbdc-start-smart-540
END:VEVENT

END:VCALENDAR
