BEGIN:VCALENDAR
VERSION:2.0
PRODID:-//ChamberMaster//Event Calendar 2.0//EN
METHOD:PUBLISH
X-PUBLISHED-TTL:P3D
REFRESH-INTERVAL:P3D
CALSCALE:GREGORIAN
BEGIN:VEVENT
DTSTART:20230622T190000Z
DTEND:20230622T200000Z
X-MICROSOFT-CDO-ALLDAYEVENT:FALSE
SUMMARY:SBDC Small Talk: Featuring LiftFund
DESCRIPTION:Join the SBDC for its quarterly chat with small business advocates! This quarter's guest speaker is LiftFund.\n\nWhat is the LiftFund? How does LiftFund help small businesses?\n\nLiftFund provides small business loans for women & minorities and startups in the Rio Grande Valley and throughout Southern Texas.\n\nTypes of assistance:\n\n-Small business loans in the Rio Grande Valley up to $500\,000\n\n-Startup loans\n\n-SBA 7a Community Advantage & 504 loans\n\n-Business and financial training\n\nWould you like to know more? Join us for an informal discussion with LIftFund as they share more details about their programs for small businesses.\n\nThis webinar is presented by the UTRGV SBDC with promotional support from participating resource partners\, including the Brownsville Chamber of Commerce\; Consulate of Mexico in McAllen\; Edinburg Chamber of Commerce\; Greater Alton Chamber of Commerce\; Greater Pharr Chamber of Commerce\; Greater Mission Chamber of Commerce\; Harlingen Economic Development Corporation\; Palmview Chamber of Commerce\; Rio Grande City Economic Development Corporation\; Rio Grande City Greater Chamber of Commerce\; Rio Grande City Public Library\; Rio Grande Valley Hispanic Chamber of Commerce\; San Benito Chamber of Commerce\; South Padre Island Chamber of Commerce\; Starr County Industrial Foundation\; Weslaco Area Chamber of Commerce & Visitors Center.\n\nRegister at link above. Deadline applies.
X-ALT-DESC;FMTTYPE=text/html:<div class="x11i5rnm xat24cr x1mh8g0r x1vvkbs xtlvy1s" style="margin: 0.5em 0px 0px\; overflow-wrap: break-word\; font-family: system-ui\, -apple-system\, &quot\;system-ui&quot\;\, &quot\;.SFNSText-Regular&quot\;\, sans-serif\; color: rgb(5\, 5\, 5)\; font-size: 15px\; background-color: rgb(255\, 255\, 255)\;">Join the SBDC for its quarterly chat with small business advocates! This quarter&#39\;s guest speaker is LiftFund.</div>\n\n<div class="x11i5rnm xat24cr x1mh8g0r x1vvkbs xtlvy1s" style="margin: 0.5em 0px 0px\; overflow-wrap: break-word\; font-family: system-ui\, -apple-system\, &quot\;system-ui&quot\;\, &quot\;.SFNSText-Regular&quot\;\, sans-serif\; color: rgb(5\, 5\, 5)\; font-size: 15px\; background-color: rgb(255\, 255\, 255)\;">What is the LiftFund? How does LiftFund help small businesses?</div>\n\n<div class="x11i5rnm xat24cr x1mh8g0r x1vvkbs xtlvy1s" style="margin: 0.5em 0px 0px\; overflow-wrap: break-word\; font-family: system-ui\, -apple-system\, &quot\;system-ui&quot\;\, &quot\;.SFNSText-Regular&quot\;\, sans-serif\; color: rgb(5\, 5\, 5)\; font-size: 15px\; background-color: rgb(255\, 255\, 255)\;">LiftFund provides small business loans for women &amp\; minorities and startups in the Rio Grande Valley and throughout Southern Texas.</div>\n\n<div class="x11i5rnm xat24cr x1mh8g0r x1vvkbs xtlvy1s" style="margin: 0.5em 0px 0px\; overflow-wrap: break-word\; font-family: system-ui\, -apple-system\, &quot\;system-ui&quot\;\, &quot\;.SFNSText-Regular&quot\;\, sans-serif\; color: rgb(5\, 5\, 5)\; font-size: 15px\; background-color: rgb(255\, 255\, 255)\;">Types of assistance:<br />\n-Small business loans in the Rio Grande Valley up to $500\,000<br />\n-Startup loans<br />\n-SBA 7a Community Advantage &amp\; 504 loans<br />\n-Business and financial training</div>\n\n<div class="x11i5rnm xat24cr x1mh8g0r x1vvkbs xtlvy1s" style="margin: 0.5em 0px 0px\; overflow-wrap: break-word\; font-family: system-ui\, -apple-system\, &quot\;system-ui&quot\;\, &quot\;.SFNSText-Regular&quot\;\, sans-serif\; color: rgb(5\, 5\, 5)\; font-size: 15px\; background-color: rgb(255\, 255\, 255)\;">Would you like to know more? Join us for an informal discussion with LIftFund as they share more details about their programs for small businesses.</div>\n\n<div class="x11i5rnm xat24cr x1mh8g0r x1vvkbs xtlvy1s" style="margin: 0.5em 0px 0px\; overflow-wrap: break-word\; font-family: system-ui\, -apple-system\, &quot\;system-ui&quot\;\, &quot\;.SFNSText-Regular&quot\;\, sans-serif\; color: rgb(5\, 5\, 5)\; font-size: 15px\; background-color: rgb(255\, 255\, 255)\;">This webinar is presented by the UTRGV SBDC with promotional support from participating resource partners\, including the Brownsville Chamber of Commerce\; Consulate of Mexico in McAllen\; Edinburg Chamber of Commerce\; Greater Alton Chamber of Commerce\; Greater Pharr Chamber of Commerce\; Greater Mission Chamber of Commerce\; Harlingen Economic Development Corporation\; Palmview Chamber of Commerce\; Rio Grande City Economic Development Corporation\; Rio Grande City Greater Chamber of Commerce\; Rio Grande City Public Library\; Rio Grande Valley Hispanic Chamber of Commerce\; San Benito Chamber of Commerce\; South Padre Island Chamber of Commerce\; Starr County Industrial Foundation\; Weslaco Area Chamber of Commerce &amp\; Visitors Center.</div>\n\n<div class="x11i5rnm xat24cr x1mh8g0r x1vvkbs xtlvy1s" style="margin: 0.5em 0px 0px\; overflow-wrap: break-word\; font-family: system-ui\, -apple-system\, &quot\;system-ui&quot\;\, &quot\;.SFNSText-Regular&quot\;\, sans-serif\; color: rgb(5\, 5\, 5)\; font-size: 15px\; background-color: rgb(255\, 255\, 255)\;">Register at link above. Deadline applies.</div>\n
LOCATION:WEBINAR REGISTRATION LINK: https://utrgv.zoom.us/.../58168.../WN_49dLdkRZQv2WyclhpcDy2A
UID:e.3411.555
SEQUENCE:3
DTSTAMP:20260424T200222Z
URL:https://business.rgvhcc.org/events/details/sbdc-small-talk-featuring-liftfund-555
END:VEVENT

END:VCALENDAR
