BEGIN:VCALENDAR
VERSION:2.0
PRODID:-//ChamberMaster//Event Calendar 2.0//EN
METHOD:PUBLISH
X-PUBLISHED-TTL:P3D
REFRESH-INTERVAL:P3D
CALSCALE:GREGORIAN
BEGIN:VEVENT
DTSTART:20240118T200000Z
DTEND:20240118T210000Z
X-MICROSOFT-CDO-ALLDAYEVENT:FALSE
SUMMARY:SBDC Power of Business Planning
DESCRIPTION:Do you have a business plan for your new or existing small business?\n\nA business plan shares who you are as a business\, what you are selling\; how you will get your products/services to market\; who is your target market and how you will reach them\; how much capital it takes to launch or expand\; and how much profit you can make.\n\nThis document is not only used to keep you on track but can also be used with lenders and investors.\n\n\n\nSession highlights:\n\n-The importance of business planning\n\n-What is a business plan\n\n-Uses of a business plan\n\n-Components of a business plan\n\n\n\n*This session is presented by the UTRGV SBDC with promotional support from any or all of the following resource partners: Brownsville Chamber of Commerce\; Consulate of Mexico in McAllen\; Edinburg Chamber of Commerce\; Greater Alton Chamber of Commerce\; Greater Pharr Chamber of Commerce\; Greater Mission Chamber of Commerce\; Harlingen Economic Development Corporation\; Palmview Chamber of Commerce\; Rio Grande City Economic Development Corporation\; Rio Grande City Greater Chamber of Commerce\; Rio Grande City Public Library\; Rio Grande Valley Hispanic Chamber of Commerce\; San Benito Chamber of Commerce\; South Padre Island Chamber of Commerce\; Starr County Industrial Foundation\; Weslaco Area Chamber of Commerce & Visitors Center.
X-ALT-DESC;FMTTYPE=text/html:Do you have a business plan for your new or existing small business?<br />\nA business plan shares who you are as a business\, what you are selling\; how you will get your products/services to market\; who is your target market and how you will reach them\; how much capital it takes to launch or expand\; and how much profit you can make.<br />\nThis document is not only used to keep you on track but can also be used with lenders and investors.<br />\n<br />\nSession highlights:<br />\n-The importance of business planning<br />\n-What is a business plan<br />\n-Uses of a business plan<br />\n-Components of a business plan<br />\n<br />\n*This session is presented by the UTRGV SBDC with promotional support from any or all of the following resource partners: Brownsville Chamber of Commerce\; Consulate of Mexico in McAllen\; Edinburg Chamber of Commerce\; Greater Alton Chamber of Commerce\; Greater Pharr Chamber of Commerce\; Greater Mission Chamber of Commerce\; Harlingen Economic Development Corporation\; Palmview Chamber of Commerce\; Rio Grande City Economic Development Corporation\; Rio Grande City Greater Chamber of Commerce\; Rio Grande City Public Library\; Rio Grande Valley Hispanic Chamber of Commerce\; San Benito Chamber of Commerce\; South Padre Island Chamber of Commerce\; Starr County Industrial Foundation\; Weslaco Area Chamber of Commerce &amp\; Visitors Center.
LOCATION:
UID:e.3411.693
SEQUENCE:3
DTSTAMP:20260424T110250Z
URL:https://business.rgvhcc.org/events/details/sbdc-power-of-business-planning-693
END:VEVENT

END:VCALENDAR
