BEGIN:VCALENDAR
VERSION:2.0
PRODID:-//ChamberMaster//Event Calendar 2.0//EN
METHOD:PUBLISH
X-PUBLISHED-TTL:P3D
REFRESH-INTERVAL:P3D
CALSCALE:GREGORIAN
BEGIN:VEVENT
DTSTART:20230713T150000Z
DTEND:20230713T170000Z
X-MICROSOFT-CDO-ALLDAYEVENT:FALSE
SUMMARY:SBDC Payroll Compliance
DESCRIPTION:Are you planning to hire employees?\n\nHiring employees involves more than just signing a paycheck. Before hiring employees\, business owners must understand and prepare for the additional obligations that come with being an employer. This workshop sheds light on the compliance requirements of payroll.\n\nWebinar Highlights:\n\n-Steps to meeting general State and Federal requirements\n\n-Laws and types of payroll taxes business owners must pay\n\n-Contact information for the different agencies that govern payroll taxes\n\n-Helpful resources\n\nThis webinar is presented by the UTRGV SBDC with promotional support from participating resource partners: Brownsville Chamber of Commerce\; Consulate of Mexico in McAllen\; Edinburg Chamber of Commerce\; Greater Alton Chamber of Commerce\; Greater Pharr Chamber of Commerce\; Greater Mission Chamber of Commerce\; Harlingen Economic Development Corporation\; Palmview Chamber of Commerce\; Rio Grande City Economic Development Corporation\; Rio Grande City Greater Chamber of Commerce\; Rio Grande City Public Library\; Rio Grande Valley Hispanic Chamber of Commerce\; San Benito Chamber of Commerce\; South Padre Island Chamber of Commerce\; Starr County Industrial Foundation\; Weslaco Area Chamber of Commerce & Visitors Center.
X-ALT-DESC;FMTTYPE=text/html:Are you planning to hire employees?<br />\nHiring employees involves more than just signing a paycheck. Before hiring employees\, business owners must understand and prepare for the additional obligations that come with being an employer. This workshop sheds light on the compliance requirements of payroll.<br />\nWebinar Highlights:<br />\n-Steps to meeting general State and Federal requirements<br />\n-Laws and types of payroll taxes business owners must pay<br />\n-Contact information for the different agencies that govern payroll taxes<br />\n-Helpful resources<br />\nThis webinar is presented by the UTRGV SBDC with promotional support from participating resource partners: Brownsville Chamber of Commerce\; Consulate of Mexico in McAllen\; Edinburg Chamber of Commerce\; Greater Alton Chamber of Commerce\; Greater Pharr Chamber of Commerce\; Greater Mission Chamber of Commerce\; Harlingen Economic Development Corporation\; Palmview Chamber of Commerce\; Rio Grande City Economic Development Corporation\; Rio Grande City Greater Chamber of Commerce\; Rio Grande City Public Library\; Rio Grande Valley Hispanic Chamber of Commerce\; San Benito Chamber of Commerce\; South Padre Island Chamber of Commerce\; Starr County Industrial Foundation\; Weslaco Area Chamber of Commerce &amp\; Visitors Center.
LOCATION:WEBINAR REGISTRATION LINK: https://utrgv.zoom.us/.../60168.../WN_K11Jyju7RYmQYQAFfALTvQ
UID:e.3411.581
SEQUENCE:3
DTSTAMP:20260424T183820Z
URL:https://business.rgvhcc.org/events/details/sbdc-payroll-compliance-581
END:VEVENT

END:VCALENDAR
