BEGIN:VCALENDAR
VERSION:2.0
PRODID:-//ChamberMaster//Event Calendar 2.0//EN
METHOD:PUBLISH
X-PUBLISHED-TTL:P3D
REFRESH-INTERVAL:P3D
CALSCALE:GREGORIAN
BEGIN:VEVENT
DTSTART:20230712T150000Z
DTEND:20230712T170000Z
X-MICROSOFT-CDO-ALLDAYEVENT:FALSE
SUMMARY:SBDC Digital Marketing Services
DESCRIPTION:Does your business have a digital presence?\n\nSmall businesses that incorporate digital marketing to promote their goods/services use various media - including websites\, social media platforms\, blogs\, video\, email\, phone apps\, and much more - to reach consumers.\n\nUnlike traditional marketing\, which is typically one-way communication\, digital marketing is a two-way exchange! Dynamic and always evolving\, digital marketing is a critical and affordable method for small businesses to engage with new and existing customers. Join us to learn more!\n\nSession highlights:\n\n-What is digital marketing?\n\n-What are the benefits of digital marketing?\n\n-What are the different types of digital marketing?\n\n-How do you measure the effects of digital marketing?\n\n-What considerations exist when setting digital marketing objectives?\n\n*This in-person session is presented by the UTRGV SBDC and co-hosted by the RGV Hispanic Chamber of Commerce.
X-ALT-DESC;FMTTYPE=text/html:<div class="x11i5rnm xat24cr x1mh8g0r x1vvkbs xtlvy1s" style="margin: 0.5em 0px 0px\; overflow-wrap: break-word\; font-family: system-ui\, -apple-system\, &quot\;system-ui&quot\;\, &quot\;.SFNSText-Regular&quot\;\, sans-serif\; color: rgb(5\, 5\, 5)\; font-size: 15px\; background-color: rgb(255\, 255\, 255)\;">Does your business have a digital presence?</div>\n\n<div class="x11i5rnm xat24cr x1mh8g0r x1vvkbs xtlvy1s" style="margin: 0.5em 0px 0px\; overflow-wrap: break-word\; font-family: system-ui\, -apple-system\, &quot\;system-ui&quot\;\, &quot\;.SFNSText-Regular&quot\;\, sans-serif\; color: rgb(5\, 5\, 5)\; font-size: 15px\; background-color: rgb(255\, 255\, 255)\;">Small businesses that incorporate digital marketing to promote their goods/services use various media - including websites\, social media platforms\, blogs\, video\, email\, phone apps\, and much more - to reach consumers.</div>\n\n<div class="x11i5rnm xat24cr x1mh8g0r x1vvkbs xtlvy1s" style="margin: 0.5em 0px 0px\; overflow-wrap: break-word\; font-family: system-ui\, -apple-system\, &quot\;system-ui&quot\;\, &quot\;.SFNSText-Regular&quot\;\, sans-serif\; color: rgb(5\, 5\, 5)\; font-size: 15px\; background-color: rgb(255\, 255\, 255)\;">Unlike traditional marketing\, which is typically one-way communication\, digital marketing is a two-way exchange! Dynamic and always evolving\, digital marketing is a critical and affordable method for small businesses to engage with new and existing customers. Join us to learn more!</div>\n\n<div class="x11i5rnm xat24cr x1mh8g0r x1vvkbs xtlvy1s" style="margin: 0.5em 0px 0px\; overflow-wrap: break-word\; font-family: system-ui\, -apple-system\, &quot\;system-ui&quot\;\, &quot\;.SFNSText-Regular&quot\;\, sans-serif\; color: rgb(5\, 5\, 5)\; font-size: 15px\; background-color: rgb(255\, 255\, 255)\;">Session highlights:</div>\n\n<div class="x11i5rnm xat24cr x1mh8g0r x1vvkbs xtlvy1s" style="margin: 0.5em 0px 0px\; overflow-wrap: break-word\; font-family: system-ui\, -apple-system\, &quot\;system-ui&quot\;\, &quot\;.SFNSText-Regular&quot\;\, sans-serif\; color: rgb(5\, 5\, 5)\; font-size: 15px\; background-color: rgb(255\, 255\, 255)\;">-What is digital marketing?<br />\n-What are the benefits of digital marketing?<br />\n-What are the different types of digital marketing?<br />\n-How do you measure the effects of digital marketing?<br />\n-What considerations exist when setting digital marketing objectives?</div>\n\n<div class="x11i5rnm xat24cr x1mh8g0r x1vvkbs xtlvy1s" style="margin: 0.5em 0px 0px\; overflow-wrap: break-word\; font-family: system-ui\, -apple-system\, &quot\;system-ui&quot\;\, &quot\;.SFNSText-Regular&quot\;\, sans-serif\; color: rgb(5\, 5\, 5)\; font-size: 15px\; background-color: rgb(255\, 255\, 255)\;">*This in-person session is presented by the UTRGV SBDC and co-hosted by the RGV Hispanic Chamber of Commerce.</div>\n
LOCATION:
UID:e.3411.575
SEQUENCE:3
DTSTAMP:20260424T184019Z
URL:https://business.rgvhcc.org/events/details/sbdc-digital-marketing-services-575
END:VEVENT

END:VCALENDAR
