BEGIN:VCALENDAR
VERSION:2.0
PRODID:-//ChamberMaster//Event Calendar 2.0//EN
METHOD:PUBLISH
X-PUBLISHED-TTL:P3D
REFRESH-INTERVAL:P3D
CALSCALE:GREGORIAN
BEGIN:VEVENT
DTSTART:20231004T223000Z
DTEND:20231005T020000Z
X-MICROSOFT-CDO-ALLDAYEVENT:FALSE
SUMMARY:Ribbon Cutting - Thrive Drip Spa
DESCRIPTION:ThrIVe Drip Spa also features cryotherapy and infrared therapy pod. Our cryo sauna uses nitrogen\, a safe and naturally occurring gas\, to quickly lower your body's core temperature. Cryotherapy is an innovative treatment where the surface of the body is briefly exposed to very cold temperatures in order to stimulate multiple health\, fitness\, weight-loss\, healing\, and beauty benefits. Lay Back and relax in our infrared wellness cocoon A luxurious\, full body\, powered massage system ergonomically situated within a personal pod with a wellness exercise system & adjustable thermal dual heat sauna. You customize and perfectly personalize the features to create a revitalizing\, rejuvenating and relaxing experience for the mind and body   Enter the ultimate healthy lifestyle system for overall holistic fitness\, mind-body wellness improvement & weight management.
X-ALT-DESC;FMTTYPE=text/html:<span style="color: rgb(5\, 5\, 5)\; font-family: system-ui\, -apple-system\, &quot\;system-ui&quot\;\, &quot\;.SFNSText-Regular&quot\;\, sans-serif\; font-size: 15px\;">ThrIVe Drip Spa also features cryotherapy and infrared therapy pod. Our cryo sauna uses nitrogen\, a safe and naturally occurring gas\, to quickly lower your body&rsquo\;s core temperature. Cryotherapy is an innovative treatment where the surface of the body is briefly exposed to very cold temperatures in order to stimulate multiple health\, fitness\, weight-loss\, healing\, and beauty benefits. Lay Back and relax in our infrared wellness cocoon A luxurious\, full body\, powered massage system ergonomically situated within a personal pod with a wellness exercise system &amp\; adjustable thermal dual heat sauna. You customize and perfectly personalize the features to create a revitalizing\, rejuvenating and relaxing experience for the mind and body &ndash\; Enter the ultimate healthy lifestyle system for overall holistic fitness\, mind-body wellness improvement &amp\; weight management.</span>
LOCATION:
UID:e.3411.634
SEQUENCE:3
DTSTAMP:20260424T152302Z
URL:https://business.rgvhcc.org/events/details/ribbon-cutting-thrive-drip-spa-634
END:VEVENT

END:VCALENDAR
