BEGIN:VCALENDAR
VERSION:2.0
PRODID:-//ChamberMaster//Event Calendar 2.0//EN
METHOD:PUBLISH
X-PUBLISHED-TTL:P3D
REFRESH-INTERVAL:P3D
CALSCALE:GREGORIAN
BEGIN:VEVENT
DTSTART:20240418T200000Z
DTEND:20240418T220000Z
X-MICROSOFT-CDO-ALLDAYEVENT:FALSE
SUMMARY:Ribbon Cutting - Texas Women's University & The Jane Nelson Institute for Women's Leadership
DESCRIPTION:
X-ALT-DESC;FMTTYPE=text/html:
LOCATION:
UID:e.3411.754
SEQUENCE:3
DTSTAMP:20260424T071740Z
URL:https://business.rgvhcc.org/events/details/ribbon-cutting-texas-women-s-university-the-jane-nelson-institute-for-women-s-leadership-754
END:VEVENT

END:VCALENDAR
