BEGIN:VCALENDAR
VERSION:2.0
PRODID:-//ChamberMaster//Event Calendar 2.0//EN
METHOD:PUBLISH
X-PUBLISHED-TTL:P3D
REFRESH-INTERVAL:P3D
CALSCALE:GREGORIAN
BEGIN:VEVENT
DTSTART:20231108T170000Z
DTEND:20231108T180000Z
X-MICROSOFT-CDO-ALLDAYEVENT:FALSE
SUMMARY:Ribbon Cutting - South Texas Health System Behavioral\; Chemical Dependency Unit
DESCRIPTION:
X-ALT-DESC;FMTTYPE=text/html:
LOCATION:
UID:e.3411.663
SEQUENCE:3
DTSTAMP:20260424T135855Z
URL:https://business.rgvhcc.org/events/details/ribbon-cutting-south-texas-health-system-behavioral-chemical-dependency-unit-663
END:VEVENT

END:VCALENDAR
