BEGIN:VCALENDAR
VERSION:2.0
PRODID:-//ChamberMaster//Event Calendar 2.0//EN
METHOD:PUBLISH
X-PUBLISHED-TTL:P3D
REFRESH-INTERVAL:P3D
CALSCALE:GREGORIAN
BEGIN:VEVENT
DTSTART:20250304T233000Z
DTEND:20250305T010000Z
X-MICROSOFT-CDO-ALLDAYEVENT:FALSE
SUMMARY:Ribbon Cutting - Pete Jaramillo Insurance Benefits
DESCRIPTION:Join us for the Ribbon Cutting & Grand Opening of Pete Jaramillo Insurance Benefits! Let's celebrate with them & welcome them into the neighborhood!
X-ALT-DESC;FMTTYPE=text/html:<div class="kvgmc6g5 cxmmr5t8 oygrvhab hcukyx3x c1et5uql" style="overflow-wrap: break-word\; margin: 0px\; font-family: system-ui\, -apple-system\, &quot\;system-ui&quot\;\, &quot\;.SFNSText-Regular&quot\;\, sans-serif\; color: rgb(5\, 5\, 5)\; font-size: 15px\;">Join us for the Ribbon Cutting &amp\; Grand Opening of Pete Jaramillo Insurance Benefits!&nbsp\;Let&#39\;s&nbsp\;celebrate&nbsp\;with them&nbsp\;&amp\; welcome them into the neighborhood!</div>\n
LOCATION:Pete Jaramillo Insurance Benefits
UID:e.3411.911
SEQUENCE:3
DTSTAMP:20260422T214655Z
URL:https://business.rgvhcc.org/events/details/ribbon-cutting-pete-jaramillo-insurance-benefits-911
END:VEVENT

END:VCALENDAR
