BEGIN:VCALENDAR
VERSION:2.0
PRODID:-//ChamberMaster//Event Calendar 2.0//EN
METHOD:PUBLISH
X-PUBLISHED-TTL:P3D
REFRESH-INTERVAL:P3D
CALSCALE:GREGORIAN
BEGIN:VEVENT
DTSTART:20250424T230000Z
DTEND:20250425T000000Z
X-MICROSOFT-CDO-ALLDAYEVENT:FALSE
SUMMARY:Ribbon Cutting - Leah Wise Law Firm
DESCRIPTION:The Rio Grande Valley Hispanic Chamber of Commerce invites you to the Grand Opening & Ribbon Cutting of Leah Wise Law Firm
X-ALT-DESC;FMTTYPE=text/html:<div class="kvgmc6g5 cxmmr5t8 oygrvhab hcukyx3x c1et5uql" style="overflow-wrap: break-word\; margin: 0px\;">\n<p data-end="409" data-start="159" style=""><span style="color: rgb(0\, 0\, 0)\; font-family: -apple-system\, BlinkMacSystemFont\, &quot\;Segoe UI&quot\;\, Roboto\, Helvetica\, Arial\, sans-serif\; font-size: 14px\;">The Rio Grande Valley Hispanic Chamber of Commerce invites you to the Grand Opening &amp\; Ribbon Cutting of&nbsp\;</span>Leah Wise Law Firm</p>\n</div>\n
LOCATION:
UID:e.3411.949
SEQUENCE:3
DTSTAMP:20260420T111829Z
URL:https://business.rgvhcc.org/events/details/ribbon-cutting-leah-wise-law-firm-04-24-2025-949
END:VEVENT

END:VCALENDAR
