BEGIN:VCALENDAR
VERSION:2.0
PRODID:-//ChamberMaster//Event Calendar 2.0//EN
METHOD:PUBLISH
X-PUBLISHED-TTL:P3D
REFRESH-INTERVAL:P3D
CALSCALE:GREGORIAN
BEGIN:VEVENT
DTSTART:20231205T103000Z
DTEND:20231205T233000Z
X-MICROSOFT-CDO-ALLDAYEVENT:FALSE
SUMMARY:Ribbon Cutting - Back Office Risk
DESCRIPTION:
X-ALT-DESC;FMTTYPE=text/html:
LOCATION:
UID:e.3411.676
SEQUENCE:3
DTSTAMP:20260424T121444Z
URL:https://business.rgvhcc.org/events/details/ribbon-cutting-back-office-risk-676
END:VEVENT

END:VCALENDAR
