BEGIN:VCALENDAR
VERSION:2.0
PRODID:-//ChamberMaster//Event Calendar 2.0//EN
METHOD:PUBLISH
X-PUBLISHED-TTL:P3D
REFRESH-INTERVAL:P3D
CALSCALE:GREGORIAN
BEGIN:VEVENT
DTSTART:20240228T173000Z
DTEND:20240228T190000Z
X-MICROSOFT-CDO-ALLDAYEVENT:FALSE
SUMMARY:RGV Intergovernmental Luncheon - Hidalgo County
DESCRIPTION:Join us for the RGV Intergovernmental Luncheon\, a dynamic vertical update presented by distinguished elected officials. Our esteemed panelists include Congresswoman Monica De La Cruz\, Senator Juan 'Chuy' Hinojosa\, County Judge Richard Cortez\, and McAllen Mayor Javier Villalobos. Gain valuable insights into regional developments and policies.\n\n\n\nDon't miss this opportunity to engage with key leaders shaping the future of our community!
X-ALT-DESC;FMTTYPE=text/html:<span style="font-size:14px\;"><span style="font-family: Söhne\, ui-sans-serif\, system-ui\, -apple-system\, &quot\;Segoe UI&quot\;\, Roboto\, Ubuntu\, Cantarell\, &quot\;Noto Sans&quot\;\, sans-serif\, &quot\;Helvetica Neue&quot\;\, Arial\, &quot\;Apple Color Emoji&quot\;\, &quot\;Segoe UI Emoji&quot\;\, &quot\;Segoe UI Symbol&quot\;\, &quot\;Noto Color Emoji&quot\;\; white-space-collapse: preserve\;"><span style="color:#000000\;">Join us for the RGV Intergovernmental Luncheon\, a dynamic vertical update presented by distinguished elected officials. Our esteemed panelists include Congresswoman Monica De La Cruz\, Senator Juan &#39\;Chuy&#39\; Hinojosa\, County Judge Richard Cortez\, and McAllen Mayor Javier Villalobos. Gain valuable insights into regional developments and policies.</span></span><br />\n<br />\n<span style="color:#000000\;"><span style="font-family: Söhne\, ui-sans-serif\, system-ui\, -apple-system\, &quot\;Segoe UI&quot\;\, Roboto\, Ubuntu\, Cantarell\, &quot\;Noto Sans&quot\;\, sans-serif\, &quot\;Helvetica Neue&quot\;\, Arial\, &quot\;Apple Color Emoji&quot\;\, &quot\;Segoe UI Emoji&quot\;\, &quot\;Segoe UI Symbol&quot\;\, &quot\;Noto Color Emoji&quot\;\; white-space-collapse: preserve\;">Don&#39\;t miss this opportunity to engage with key leaders shaping the future of our community!</span></span></span>
LOCATION:Double Tree Suites By Hilton Hotel McAllen
UID:e.3411.687
SEQUENCE:3
DTSTAMP:20260424T093315Z
URL:https://business.rgvhcc.org/events/details/rgv-intergovernmental-luncheon-hidalgo-county-687
END:VEVENT

END:VCALENDAR
