BEGIN:VCALENDAR
VERSION:2.0
PRODID:-//ChamberMaster//Event Calendar 2.0//EN
METHOD:PUBLISH
X-PUBLISHED-TTL:P3D
REFRESH-INTERVAL:P3D
CALSCALE:GREGORIAN
BEGIN:VEVENT
DTSTART:20240207T170000Z
DTEND:20240207T190000Z
X-MICROSOFT-CDO-ALLDAYEVENT:FALSE
SUMMARY:Open House Event\; Meet Mako
DESCRIPTION:Don't miss out on the unveiling of Mako Robotics technology! Join us for a special talk by Dr. Michael Sander on the latest cutting-edge technology for knee replacements. Precision is key\, and you won't want to miss this exciting event!
X-ALT-DESC;FMTTYPE=text/html:Don&#39\;t miss out on the unveiling of Mako Robotics technology! Join us for a special talk by Dr. Michael Sander on the latest cutting-edge technology for knee replacements. Precision is key\, and you won&#39\;t want to miss this exciting event!
LOCATION:KMC Conference Center on the west side of the Knapp Medical Center's Campus
UID:e.3411.715
SEQUENCE:3
DTSTAMP:20260424T100426Z
URL:https://business.rgvhcc.org/events/details/open-house-event-meet-mako-715
END:VEVENT

END:VCALENDAR
