BEGIN:VCALENDAR
VERSION:2.0
PRODID:-//ChamberMaster//Event Calendar 2.0//EN
METHOD:PUBLISH
X-PUBLISHED-TTL:P3D
REFRESH-INTERVAL:P3D
CALSCALE:GREGORIAN
BEGIN:VEVENT
DTSTART:20250515T230000Z
DTEND:20250516T045500Z
X-MICROSOFT-CDO-ALLDAYEVENT:FALSE
SUMMARY:Noche De Gala 2025
DESCRIPTION:The RGV Hispanic Chamber of Commerce proudly presents the 2025 Noche De Gala\, an evening dedicated to honoring outstanding leaders and celebrating excellence in the Rio Grande Valley.\n\n\n\nThis prestigious event will recognize the achievements of the Businessman of the Year\, Businesswoman of the Year\, and the esteemed recipient of the Golden Eagle Award\, showcasing their contributions to our community and beyond.\n\n\n\nThe Gala will also feature a  live and silent auction\, with proceeds supporting the RGV Hispanic Chamber's initiatives to empower small businesses and foster economic growth\n\n\n\nThe Mission of the RGV Hispanic Chamber (RGVHCC) is to strengthen local businesses & professionals through networking\, mentorship\, education\, and promoting economic development across the border region. The RGVHCC membership is comprised of ambitious professionals spanning a wide variety of industries. \n\n\n\nHonoring the 2025 Business Leaders\n\n\n	Businessman & Businesswoman of The Year\n	Small Business of The Year\n	Medium Business of The Year\n	Large Business of The Year\n	Rising Star\n	People's Choice\n	Excellence in Arts
X-ALT-DESC;FMTTYPE=text/html:<div class="cxmmr5t8 oygrvhab hcukyx3x c1et5uql o9v6fnle" style="background-color: rgb(255\, 255\, 255)\; overflow-wrap: break-word\; margin: 0.5em 0px 0px\; font-family: system-ui\, -apple-system\, &quot\;system-ui&quot\;\, &quot\;.SFNSText-Regular&quot\;\, sans-serif\; color: rgb(5\, 5\, 5)\; font-size: 15px\;">The RGV Hispanic Chamber of Commerce proudly presents the 2025 Noche De Gala\, an evening dedicated to honoring outstanding leaders and celebrating excellence in the Rio Grande Valley.<br />\n<br />\nThis prestigious event will recognize the achievements of the Businessman of the Year\, Businesswoman of the Year\, and the esteemed recipient of the Golden Eagle Award\, showcasing their contributions to our community and beyond.<br />\n<br />\nThe Gala will also feature a&nbsp\; live and silent auction\, with proceeds supporting the RGV Hispanic Chamber&rsquo\;s initiatives to empower small businesses and foster economic growth<br />\n<br />\nThe Mission of the RGV Hispanic Chamber (RGVHCC) is to strengthen local businesses &amp\; professionals through networking\, mentorship\, education\, and promoting economic development across the border region. The RGVHCC membership is comprised of ambitious professionals spanning a wide variety of industries.&nbsp\;<br />\n<br />\nHonoring the 2025 Business Leaders</div>\n\n<ul>\n	<li class="cxmmr5t8 oygrvhab hcukyx3x c1et5uql o9v6fnle" style="background-color: rgb(255\, 255\, 255)\; overflow-wrap: break-word\; margin: 0.5em 0px 0px\; font-family: system-ui\, -apple-system\, &quot\;system-ui&quot\;\, &quot\;.SFNSText-Regular&quot\;\, sans-serif\; color: rgb(5\, 5\, 5)\; font-size: 15px\;">Businessman &amp\; Businesswoman&nbsp\;of The Year</li>\n	<li class="cxmmr5t8 oygrvhab hcukyx3x c1et5uql o9v6fnle" style="background-color: rgb(255\, 255\, 255)\; overflow-wrap: break-word\; margin: 0.5em 0px 0px\; font-family: system-ui\, -apple-system\, &quot\;system-ui&quot\;\, &quot\;.SFNSText-Regular&quot\;\, sans-serif\; color: rgb(5\, 5\, 5)\; font-size: 15px\;">Small Business of The Year</li>\n	<li class="cxmmr5t8 oygrvhab hcukyx3x c1et5uql o9v6fnle" style="background-color: rgb(255\, 255\, 255)\; overflow-wrap: break-word\; margin: 0.5em 0px 0px\; font-family: system-ui\, -apple-system\, &quot\;system-ui&quot\;\, &quot\;.SFNSText-Regular&quot\;\, sans-serif\; color: rgb(5\, 5\, 5)\; font-size: 15px\;">Medium Business of The Year</li>\n	<li class="cxmmr5t8 oygrvhab hcukyx3x c1et5uql o9v6fnle" style="background-color: rgb(255\, 255\, 255)\; overflow-wrap: break-word\; margin: 0.5em 0px 0px\; font-family: system-ui\, -apple-system\, &quot\;system-ui&quot\;\, &quot\;.SFNSText-Regular&quot\;\, sans-serif\; color: rgb(5\, 5\, 5)\; font-size: 15px\;">Large Business of The Year</li>\n	<li class="cxmmr5t8 oygrvhab hcukyx3x c1et5uql o9v6fnle" style="background-color: rgb(255\, 255\, 255)\; overflow-wrap: break-word\; margin: 0.5em 0px 0px\; font-family: system-ui\, -apple-system\, &quot\;system-ui&quot\;\, &quot\;.SFNSText-Regular&quot\;\, sans-serif\; color: rgb(5\, 5\, 5)\; font-size: 15px\;">Rising Star</li>\n	<li class="cxmmr5t8 oygrvhab hcukyx3x c1et5uql o9v6fnle" style="background-color: rgb(255\, 255\, 255)\; overflow-wrap: break-word\; margin: 0.5em 0px 0px\; font-family: system-ui\, -apple-system\, &quot\;system-ui&quot\;\, &quot\;.SFNSText-Regular&quot\;\, sans-serif\; color: rgb(5\, 5\, 5)\; font-size: 15px\;">People&rsquo\;s Choice</li>\n	<li class="cxmmr5t8 oygrvhab hcukyx3x c1et5uql o9v6fnle" style="background-color: rgb(255\, 255\, 255)\; overflow-wrap: break-word\; margin: 0.5em 0px 0px\; font-family: system-ui\, -apple-system\, &quot\;system-ui&quot\;\, &quot\;.SFNSText-Regular&quot\;\, sans-serif\; color: rgb(5\, 5\, 5)\; font-size: 15px\;">Excellence in Arts</li>\n</ul>\n
LOCATION:Corinthians Event Center
UID:e.3411.886
SEQUENCE:3
DTSTAMP:20260421T123038Z
URL:https://business.rgvhcc.org/events/details/noche-de-gala-2025-886
END:VEVENT

END:VCALENDAR
