BEGIN:VCALENDAR
VERSION:2.0
PRODID:-//ChamberMaster//Event Calendar 2.0//EN
METHOD:PUBLISH
X-PUBLISHED-TTL:P3D
REFRESH-INTERVAL:P3D
CALSCALE:GREGORIAN
BEGIN:VEVENT
DTSTART:20241025T230000Z
DTEND:20241026T045500Z
X-MICROSOFT-CDO-ALLDAYEVENT:FALSE
SUMMARY:Noche De Gala 2024 - 25th Silver Anniversary
DESCRIPTION:You are invited to The RGV Hispanic Chamber of Commerce's 2024 "25th Silver Anniversary" Dedicated to honor the Business Man & Women of the Year\, as well as the Golden Eagle Award\n\n\n\nThe RGV Hispanic Chamber has announced the return of it's annual gala on Friday\, October 25th at Kalos Event Center (Mission\, TX)\n\n\n\nThe theme "25th Silver Anniversary" is a silver & black tie optional gala that will feature a welcome reception with cocktails\, live music & the awarding of Businessman & Business Woman of the Year\, as well as the coveted "Golden Eagle Award". The evening will include a three-course meal\, crafted cocktails\, live entertainment & lots of photo opportunities. \n\n\n\nThe Gala will also feature a live & silent auction to benefit the RGV Hispanic Chamber\, which supports small businesses & the community at large. \n\n\n\nThe Mission of the RGV Hispanic Chamber (RGVHCC) is to strengthen local businesses & professionals through networking\, mentorship\, education\, and promoting economic development across the border region. The RGVHCC membership is comprised of ambitious professionals spanning a wide variety of industries. \n\n\n\nNOMINATIONS CLOSED\n\n\n\nHonoring the 2024 Business Leaders\n\n-Golden Eagle Award : Robert C. Vackar\; Dealer Principal & Chairman of the Board - Bert Ogden Group\n\n-Business Man of the Year : Leo Rodriguez of State Farm Insurance\n\n-Business Women of the Year : Dalinda Gonzalez-Alcantar\; CEO of Boys & Girls Club of McAllen\n\n-Small Corporation of the Year : Total Imaging Solutions\n\n-Medium Corporation of the Year : Delgado Collection\n\n-Large Corporation of the Year : AT&T
X-ALT-DESC;FMTTYPE=text/html:<div class="cxmmr5t8 oygrvhab hcukyx3x c1et5uql o9v6fnle" style="background-color: rgb(255\, 255\, 255)\; overflow-wrap: break-word\; margin: 0.5em 0px 0px\; font-family: system-ui\, -apple-system\, &quot\;system-ui&quot\;\, &quot\;.SFNSText-Regular&quot\;\, sans-serif\; color: rgb(5\, 5\, 5)\; font-size: 15px\;">You are invited to The RGV Hispanic Chamber of Commerce&#39\;s 2024 &quot\;25th Silver Anniversary&quot\; Dedicated to honor the Business Man &amp\; Women of the Year\, as well as the Golden Eagle Award<br />\n<br />\nThe RGV Hispanic Chamber has announced the return of it&#39\;s annual gala on Friday\, October 25th at Kalos Event Center (Mission\, TX)<br />\n<br />\nThe theme &quot\;25th Silver Anniversary&quot\; is a silver &amp\; black tie optional gala that will feature a welcome reception with cocktails\, live music &amp\; the awarding of Businessman &amp\; Business Woman of the Year\, as well as the coveted &quot\;Golden Eagle Award&quot\;. The evening will include a three-course meal\, crafted cocktails\, live entertainment &amp\; lots of photo opportunities.&nbsp\;<br />\n<br />\nThe Gala will also feature a live &amp\; silent auction to benefit the RGV Hispanic Chamber\, which supports small businesses &amp\; the community at large.&nbsp\;<br />\n<br />\nThe Mission of the RGV Hispanic Chamber (RGVHCC) is to strengthen local businesses &amp\; professionals through networking\, mentorship\, education\, and promoting economic development across the border region. The RGVHCC membership is comprised of ambitious professionals spanning a wide variety of industries.&nbsp\;<br />\n<br />\n<span style="color:#FF0000\;"><strong>NOMINATIONS CLOSED</strong></span><br />\n<br />\nHonoring the 2024&nbsp\;Business Leaders</div>\n\n<div class="cxmmr5t8 oygrvhab hcukyx3x c1et5uql o9v6fnle" style="background-color: rgb(255\, 255\, 255)\; overflow-wrap: break-word\; margin: 0.5em 0px 0px\; font-family: system-ui\, -apple-system\, &quot\;system-ui&quot\;\, &quot\;.SFNSText-Regular&quot\;\, sans-serif\; color: rgb(5\, 5\, 5)\; font-size: 15px\;">-Golden Eagle Award : Robert C.&nbsp\;Vackar\;&nbsp\;Dealer Principal &amp\; Chairman of the Board - Bert Ogden Group<br />\n-Business Man of the Year : Leo Rodriguez of&nbsp\;State Farm Insurance<br />\n-Business Women of the Year : Dalinda Gonzalez-Alcantar\; CEO of Boys &amp\; Girls Club of McAllen<br />\n-Small&nbsp\;<span style="color: rgb(5\, 5\, 5)\; font-family: system-ui\, -apple-system\, &quot\;system-ui&quot\;\, &quot\;.SFNSText-Regular&quot\;\, sans-serif\; font-size: 15px\; background-color: rgb(255\, 255\, 255)\;">Corporation of the Year : Total Imaging Solutions</span><br />\n-Medium&nbsp\;<span style="color: rgb(5\, 5\, 5)\; font-family: system-ui\, -apple-system\, &quot\;system-ui&quot\;\, &quot\;.SFNSText-Regular&quot\;\, sans-serif\; font-size: 15px\; background-color: rgb(255\, 255\, 255)\;">Corporation of the Year : Delgado Collection</span><br />\n-Large Corporation of the Year : AT&amp\;T</div>\n
LOCATION:Kalos Event Center
UID:e.3411.771
SEQUENCE:3
DTSTAMP:20260423T123702Z
URL:https://business.rgvhcc.org/events/details/noche-de-gala-2024-25th-silver-anniversary-771
END:VEVENT

END:VCALENDAR
