BEGIN:VCALENDAR
VERSION:2.0
PRODID:-//ChamberMaster//Event Calendar 2.0//EN
METHOD:PUBLISH
X-PUBLISHED-TTL:P3D
REFRESH-INTERVAL:P3D
CALSCALE:GREGORIAN
BEGIN:VEVENT
DTSTART:20240503T170000Z
DTEND:20240503T180000Z
X-MICROSOFT-CDO-ALLDAYEVENT:FALSE
SUMMARY:MS ® Excel ® and Data Analysis Seminar
DESCRIPTION:Mr. Stohl will give a one-hour seminar on the basics of MS  Excel   and Data Analysis. Topics include pivot tables and pivot charts\, Excel charts\, and sparklines.\n\n\n\nMr. Stohl has over 30 years of experience in the IT industry as an IT Educator\, database analyst\, data analyst\, and business analyst. David can provide data analysis and business intelligence services such as database design\, data warehouse design\, and data modeling.
X-ALT-DESC;FMTTYPE=text/html:Mr. Stohl will give a one-hour seminar on the basics of MS&reg\; Excel &reg\; and Data Analysis. Topics include pivot tables and pivot charts\, Excel charts\, and sparklines.<br />\n<br />\nMr. Stohl has over 30 years of experience in the IT industry as an IT Educator\, database analyst\, data analyst\, and business analyst. David can provide data analysis and business intelligence services such as database design\, data warehouse design\, and data modeling.&nbsp\;
LOCATION:RGV Hispanic Chamber of Commerce Building
UID:e.3411.757
SEQUENCE:3
DTSTAMP:20260421T133009Z
URL:https://business.rgvhcc.org/events/details/ms-excel-and-data-analysis-seminar-757
END:VEVENT

END:VCALENDAR
