BEGIN:VCALENDAR
VERSION:2.0
PRODID:-//ChamberMaster//Event Calendar 2.0//EN
METHOD:PUBLISH
X-PUBLISHED-TTL:P3D
REFRESH-INTERVAL:P3D
CALSCALE:GREGORIAN
BEGIN:VEVENT
DTSTART:20230608T170000Z
DTEND:20230608T180000Z
X-MICROSOFT-CDO-ALLDAYEVENT:FALSE
SUMMARY:Lunch & Learn with Chase - Navigating your Cash Flow
DESCRIPTION:Chase Bank and the Rio Grande Valley Hispanic Chamber of Commerce have teamed up to present 5 Lunch & Learn workshops in English from 12:00pm to 1:00pm at the Chase Tower in Mcallen\n\n\n\nClasses will be available ONCE a month   on the 2nd Thursday of the month starting in May and ending in October.The 2nd workshop is Negotiating Your Cash Flow\, a more advanced workshop from the beginner business owner. \n\n\nExperts will speak on the things recommended to have in place in order to have a successful business.  "We look forward to having our members take advantage of these workshops as they may find out they're missing steps in a proper business plan or not enough."  stated Cynthia M. Sakulenzki\, RGVHCC Pres/CEO.  Additional workshops are scheduled for  July 13th\, August 10th and October 12th.
X-ALT-DESC;FMTTYPE=text/html:<span style="color: rgb(34\, 34\, 34)\; font-family: Arial\, Helvetica\, sans-serif\; font-size: small\;">Chase Bank and the Rio Grande Valley Hispanic Chamber of Commerce have teamed up to present 5 Lunch &amp\; Learn workshops in English from <u><strong>12:00pm to 1:00pm at the Chase Tower in Mcallen</strong></u></span><br />\n<br />\nClasses will be available ONCE a month &ndash\; on the 2nd Thursday of the month starting in May and ending in October.The 2nd workshop is <strong>Negotiating Your Cash Flow</strong>\, a more advanced workshop from the beginner&nbsp\;business&nbsp\;owner.&nbsp\;\n<div><br />\nExperts will speak on the things recommended to have in place in order to have a successful business.&nbsp\; &quot\;We look forward to having&nbsp\;our members take advantage of these workshops as they may find out they&#39\;re missing steps in a proper business plan or not enough.&quot\;&nbsp\; stated Cynthia M. Sakulenzki\, RGVHCC Pres/CEO.&nbsp\; Additional workshops are scheduled for&nbsp\; July 13th\, August 10th and October 12th.</div>\n\n<div>&nbsp\;</div>\n
LOCATION:Chase Building 1st Floor
UID:e.3411.549
SEQUENCE:3
DTSTAMP:20260424T211446Z
URL:https://business.rgvhcc.org/events/details/lunch-learn-with-chase-navigating-your-cash-flow-549
END:VEVENT

END:VCALENDAR
