BEGIN:VCALENDAR
VERSION:2.0
PRODID:-//ChamberMaster//Event Calendar 2.0//EN
METHOD:PUBLISH
X-PUBLISHED-TTL:P3D
REFRESH-INTERVAL:P3D
CALSCALE:GREGORIAN
BEGIN:VEVENT
DTSTART:20230713T170000Z
DTEND:20230713T180000Z
X-MICROSOFT-CDO-ALLDAYEVENT:FALSE
SUMMARY:Lunch & Learn - Power of Capital
DESCRIPTION:Chase Bank and the Rio Grande Valley Hispanic Chamber of Commerce have teamed up to present 6 Lunch & Learn workshops in both English. from 12:00pm to 1:00pm
X-ALT-DESC;FMTTYPE=text/html:<span style="color: rgb(34\, 34\, 34)\; font-family: Arial\, Helvetica\, sans-serif\; font-size: small\;">Chase Bank and the Rio Grande Valley Hispanic Chamber of Commerce have teamed up to present 6 Lunch &amp\; Learn workshops in both English. from 12:00pm to 1:00pm&nbsp\;</span>
LOCATION:Chase Building 1st Floor
UID:e.3411.568
SEQUENCE:3
DTSTAMP:20260424T185545Z
URL:https://business.rgvhcc.org/events/details/lunch-learn-power-of-capital-568
END:VEVENT

END:VCALENDAR
