BEGIN:VCALENDAR
VERSION:2.0
PRODID:-//ChamberMaster//Event Calendar 2.0//EN
METHOD:PUBLISH
X-PUBLISHED-TTL:P3D
REFRESH-INTERVAL:P3D
CALSCALE:GREGORIAN
BEGIN:VEVENT
DTSTART:20240613T170000Z
DTEND:20240613T180000Z
X-MICROSOFT-CDO-ALLDAYEVENT:FALSE
SUMMARY:Lunch & Learn: Improving Credit and Managing Debt
DESCRIPTION:LiftFund is a nonprofit small business champion that supports small businesses with affordable financing and business education. We've partnered with local organizations to create Improving Credit and Managing Debt.\n\nCome join us for an informative session all about Improving Credit and Managing Debt! Come learn to build a positive credit history\, reduce your credit utilization\, and deal with delinquent debts. Get ready to learn\, ask questions\, and boost your financial knowledge!\n\nAttendees will receive:\n\nOne-on-one Advising - Individualized counseling focused on your next steps.\n\nBusiness Education - Build a business plan\, learn marketing\, financials & more.\n\nNetworking   Meet and Network with local small businesses.
X-ALT-DESC;FMTTYPE=text/html:<p style="font-family: -apple-system\, BlinkMacSystemFont\, Roboto\, &quot\;Helvetica Neue&quot\;\, Helvetica\, Tahoma\, Arial\, sans-serif\; margin: 0px\; padding: 0px\; box-sizing: border-box\; color: rgb(111\, 114\, 135)\; font-size: 16px\; line-height: 1.5rem\; background-color: rgb(255\, 255\, 255)\;">&nbsp\;</p>\n\n<p style="font-family: -apple-system\, BlinkMacSystemFont\, Roboto\, &quot\;Helvetica Neue&quot\;\, Helvetica\, Tahoma\, Arial\, sans-serif\; margin: 0px\; padding: 0px\; box-sizing: border-box\; color: rgb(111\, 114\, 135)\; font-size: 16px\; line-height: 1.5rem\; background-color: rgb(255\, 255\, 255)\;"><span style="color:#000000\;">LiftFund is a nonprofit small business champion that supports small businesses with affordable financing and business education. We&#39\;ve partnered with local organizations to create Improving Credit and Managing Debt.</span></p>\n\n<p style="font-family: -apple-system\, BlinkMacSystemFont\, Roboto\, &quot\;Helvetica Neue&quot\;\, Helvetica\, Tahoma\, Arial\, sans-serif\; margin: 0px\; padding: 10px 0px 0px\; box-sizing: border-box\; color: rgb(111\, 114\, 135)\; font-size: 16px\; line-height: 1.5rem\; background-color: rgb(255\, 255\, 255)\;"><span style="color:#000000\;">Come join us for an informative session all about Improving Credit and Managing Debt! Come learn to build a positive credit history\, reduce your credit utilization\, and deal with delinquent debts. Get ready to learn\, ask questions\, and boost your financial knowledge!</span></p>\n\n<p style="font-family: -apple-system\, BlinkMacSystemFont\, Roboto\, &quot\;Helvetica Neue&quot\;\, Helvetica\, Tahoma\, Arial\, sans-serif\; margin: 0px\; padding: 10px 0px 0px\; box-sizing: border-box\; color: rgb(111\, 114\, 135)\; font-size: 16px\; line-height: 1.5rem\; background-color: rgb(255\, 255\, 255)\;"><span style="color:#000000\;">Attendees will receive:</span></p>\n\n<p style="font-family: -apple-system\, BlinkMacSystemFont\, Roboto\, &quot\;Helvetica Neue&quot\;\, Helvetica\, Tahoma\, Arial\, sans-serif\; margin: 0px\; padding: 10px 0px 0px\; box-sizing: border-box\; color: rgb(111\, 114\, 135)\; font-size: 16px\; line-height: 1.5rem\; background-color: rgb(255\, 255\, 255)\;"><span style="color:#000000\;"><span style="font-weight: 700\; box-sizing: border-box\; padding-top: 0px\;">One-on-one Advising -</span>&nbsp\;Individualized counseling focused on your next steps.<br style="box-sizing: border-box\;" />\n<span style="font-weight: 700\; box-sizing: border-box\;">Business Education -</span>&nbsp\;Build a business plan\, learn marketing\, financials &amp\; more.<br style="box-sizing: border-box\;" />\n<span style="font-weight: 700\; box-sizing: border-box\;">Networking &ndash\;&nbsp\;</span>Meet and Network with local small businesses.</span></p>\n
LOCATION:RGV Hispanic Chamber of Commerce
UID:e.3411.746
SEQUENCE:3
DTSTAMP:20260424T041720Z
URL:https://business.rgvhcc.org/events/details/lunch-learn-improving-credit-and-managing-debt-746
END:VEVENT

END:VCALENDAR
