BEGIN:VCALENDAR
VERSION:2.0
PRODID:-//ChamberMaster//Event Calendar 2.0//EN
METHOD:PUBLISH
X-PUBLISHED-TTL:P3D
REFRESH-INTERVAL:P3D
CALSCALE:GREGORIAN
BEGIN:VEVENT
DTSTART:20230713T160000Z
DTEND:20230713T170000Z
X-MICROSOFT-CDO-ALLDAYEVENT:FALSE
SUMMARY:Live with RGVHCC & Magic Valley
DESCRIPTION:The RGV Hispanic Chamber announces a captivating new webinar series "Live with RGVHCC" featuring our first corporate partner guest\, Magic Valley Electric Company
X-ALT-DESC;FMTTYPE=text/html:The RGV Hispanic Chamber announces a captivating new webinar series &quot\;Live with RGVHCC&quot\; featuring our first corporate partner guest\, Magic Valley Electric Company &#128161\;
LOCATION:Zoom ID: 826 2929 2674
UID:e.3411.578
SEQUENCE:3
DTSTAMP:20260424T184712Z
URL:https://business.rgvhcc.org/events/details/live-with-rgvhcc-magic-valley-578
END:VEVENT

END:VCALENDAR
