BEGIN:VCALENDAR
VERSION:2.0
PRODID:-//ChamberMaster//Event Calendar 2.0//EN
METHOD:PUBLISH
X-PUBLISHED-TTL:P3D
REFRESH-INTERVAL:P3D
CALSCALE:GREGORIAN
BEGIN:VEVENT
DTSTART:20260430T200000Z
DTEND:20260430T220000Z
X-MICROSOFT-CDO-ALLDAYEVENT:FALSE
SUMMARY:LiftFund Info Session: McAllen 0% Interest Loan Program
DESCRIPTION:Join the RGV Hispanic Chamber of Commerce for an in-person information session in partnership with LiftFund\, focused on the McAllen 0% Interest Loan Program. This session will provide valuable insights into eligibility requirements\, application steps\, and how this funding opportunity can support your business growth.\n\nAttendees will have the opportunity to ask questions and connect directly with LiftFund representatives to better understand how to take advantage of this program.\n\n  Date: April 30\n\n  Time: 3:00 PM   5:00 PM\n\n  Location: RGVHCC Office\, 801 E. Fern Ave\, McAllen\, TX\n\nDon't miss this opportunity to explore funding options designed to help your business succeed.
X-ALT-DESC;FMTTYPE=text/html:<p data-end="428" data-start="110">Join the RGV Hispanic Chamber of Commerce for an in-person information session in partnership with LiftFund\, focused on the McAllen 0% Interest Loan Program. This session will provide valuable insights into eligibility requirements\, application steps\, and how this funding opportunity can support your business growth.</p>\n\n<p data-end="593" data-start="430">Attendees will have the opportunity to ask questions and connect directly with LiftFund representatives to better understand how to take advantage of this program.</p>\n\n<p data-end="702" data-start="595">&#128197\; Date: April 30<br data-end="615" data-start="612" />\n&#128338\; Time: 3:00 PM &ndash\; 5:00 PM<br data-end="644" data-start="641" />\n&#128205\; Location: RGVHCC Office\, 801 E. Fern Ave\, McAllen\, TX</p>\n\n<p data-end="798" data-start="704">Don&rsquo\;t miss this opportunity to explore funding options designed to help your business succeed.</p>\n
LOCATION:
UID:e.3411.1175
SEQUENCE:3
DTSTAMP:20260423T231856Z
URL:https://business.rgvhcc.org/events/details/liftfund-info-session-mcallen-0-interest-loan-program-1175
END:VEVENT

END:VCALENDAR
