BEGIN:VCALENDAR
VERSION:2.0
PRODID:-//ChamberMaster//Event Calendar 2.0//EN
METHOD:PUBLISH
X-PUBLISHED-TTL:P3D
REFRESH-INTERVAL:P3D
CALSCALE:GREGORIAN
BEGIN:VEVENT
DTSTART:20240914T180000Z
DTEND:20240914T200000Z
X-MICROSOFT-CDO-ALLDAYEVENT:FALSE
SUMMARY:Kendra Scott Gives Back to the RGVHCC
DESCRIPTION:McAllen\, TX   Join the Rio Grande Valley Hispanic Chamber of Commerce for a special collaboration with Kendra Scott on Saturday\, September 14th\,\, from 1:00 PM to 3:00 PM at La Plaza Mall\, offering everyone a chance to enjoy sips\, sweets\, and shop the latest in fashion jewelry.\n\n\n\nDuring this event\, 20% of all purchases will be donated to the Rio Grande Valley Hispanic Chamber of Commerce\, supporting our ongoing initiatives to empower local businesses and promote economic development within the community.\n\n\n\n"We are pleased to work with Kendra Scott for this unique opportunity\," Cynthia Sakulenzki\, President &amp\; CEO of the RGVHCC said. "It&#39\;s an excellent way for the community to engage and support the ongoing development of local businesses. Every purchase helps us continue our\n\nmission"\n\n\n\nFor those who cannot join in person\, there is also an opportunity to contribute online. Visit KendraScott.com on September 14th and 15th and use the promo code: GIVEBACK-HIOLS at checkout. With this code\, 20% of your purchase will benefit the Chamber.\n\n\n\nDon't miss out on this perfect chance to update your jewelry collection and give back to the community. Mark your calendars and join us!\n\n\n\nAbout the RGV Hispanic Chamber of Commerce:\n\nThe Rio Grande Valley Hispanic Chamber of Commerce is committed to strengthening area businesses and supporting diverse professionals through networking\, mentorship\, education\, and promoting economic development across the border region.
X-ALT-DESC;FMTTYPE=text/html:McAllen\, TX &ndash\; Join the Rio Grande Valley Hispanic Chamber of Commerce for a special collaboration with Kendra Scott on Saturday\, September 14th\,\, from 1:00 PM to 3:00 PM at La Plaza Mall\, offering everyone a chance to enjoy sips\, sweets\, and shop the latest in fashion jewelry.<br />\n<br />\nDuring this event\, 20% of all purchases will be donated to the Rio Grande Valley Hispanic Chamber of Commerce\, supporting our ongoing initiatives to empower local businesses and promote economic development within the community.<br />\n<br />\n&quot\;We are pleased to work with Kendra Scott for this unique opportunity\,&rdquo\; Cynthia Sakulenzki\, President &amp\;amp\; CEO of the RGVHCC said. &ldquo\;It&amp\;#39\;s an excellent way for the community to engage and support the ongoing development of local businesses. Every purchase helps us continue our<br />\nmission&quot\;<br />\n<br />\nFor those who cannot join in person\, there is also an opportunity to contribute online. Visit KendraScott.com on September 14th and 15th and use the promo code:&nbsp\;<strong>GIVEBACK-HIOLS</strong> at checkout. With this code\, 20% of your purchase will benefit the Chamber.<br />\n<br />\nDon&rsquo\;t miss out on this perfect chance to update your jewelry collection and give back to the community. Mark your calendars and join us!<br />\n<br />\n<strong>About the RGV Hispanic Chamber of Commerce:</strong><br />\nThe Rio Grande Valley Hispanic Chamber of Commerce is committed to strengthening area businesses and supporting diverse professionals through networking\, mentorship\, education\, and promoting economic development across the border region.
LOCATION:La Plaza Mall - Kendra Scott
UID:e.3411.814
SEQUENCE:3
DTSTAMP:20260423T172746Z
URL:https://business.rgvhcc.org/events/details/kendra-scott-gives-back-to-the-rgvhcc-814
END:VEVENT

END:VCALENDAR
