BEGIN:VCALENDAR
VERSION:2.0
PRODID:-//ChamberMaster//Event Calendar 2.0//EN
METHOD:PUBLISH
X-PUBLISHED-TTL:P3D
REFRESH-INTERVAL:P3D
CALSCALE:GREGORIAN
BEGIN:VEVENT
DTSTART:20230503T223000Z
DTEND:20230504T003000Z
X-MICROSOFT-CDO-ALLDAYEVENT:FALSE
SUMMARY:Joint Mixer with Weslaco Chamber of Commerce
DESCRIPTION:The RGVHCC & The Weslaco Chamber invite you to join us as we celebrate National Small Business Week!
X-ALT-DESC;FMTTYPE=text/html:The RGVHCC &amp\; The Weslaco Chamber invite you to join us as we celebrate National Small Business Week!&nbsp\;&nbsp\;&nbsp\;&nbsp\;
LOCATION:Suerte Bar & Grill
UID:e.3411.533
SEQUENCE:3
DTSTAMP:20260424T212338Z
URL:https://business.rgvhcc.org/events/details/joint-mixer-with-weslaco-chamber-of-commerce-533
END:VEVENT

END:VCALENDAR
