BEGIN:VCALENDAR
VERSION:2.0
PRODID:-//ChamberMaster//Event Calendar 2.0//EN
METHOD:PUBLISH
X-PUBLISHED-TTL:P3D
REFRESH-INTERVAL:P3D
CALSCALE:GREGORIAN
BEGIN:VEVENT
DTSTART:20230614T230000Z
DTEND:20230615T000000Z
X-MICROSOFT-CDO-ALLDAYEVENT:FALSE
SUMMARY:Grow Now McAllen Business Accelerator - Informational Session
DESCRIPTION:The Grow Now Accelerator is a comprehensive training program designed to help current and aspiring entrepreneurs gain knowledge and resources to start and strengthen their businesses.\n\n\n\nThis program consists of five sessions led by LiftFund staff and local experts in a hybrid learning environment. The sessions will cover foundational business topics such as marketing and financial skills. Participants will meet and learn from fellow business owners and benefit from a program graduation celebration and networking event. Laptops will be provided to the first 10 eligible applicants!
X-ALT-DESC;FMTTYPE=text/html:The Grow Now Accelerator is a comprehensive training program designed to help current and aspiring entrepreneurs gain knowledge and resources to start and strengthen their businesses.<br />\n<br />\nThis program consists of five sessions led by LiftFund staff and local experts in a hybrid learning environment. The sessions will cover foundational business topics such as marketing and financial skills. Participants will meet and learn from fellow business owners and benefit from a program graduation celebration and networking event. Laptops will be provided to the first 10 eligible applicants!<br />\n<br />\n&nbsp\;
LOCATION:The Grow Now Accelerator will include modules on the following topics. Each sessions lasts two hours & includes expert-led instruction\, group discussions & exercises. Curriculum Business Model Canvas Branding Digital Marketing Sales Strategy Business Financials & Funding
UID:e.3411.557
SEQUENCE:3
DTSTAMP:20260424T200515Z
URL:https://business.rgvhcc.org/events/details/grow-now-mcallen-business-accelerator-informational-session-557
END:VEVENT

END:VCALENDAR
