BEGIN:VCALENDAR
VERSION:2.0
PRODID:-//ChamberMaster//Event Calendar 2.0//EN
METHOD:PUBLISH
X-PUBLISHED-TTL:P3D
REFRESH-INTERVAL:P3D
CALSCALE:GREGORIAN
BEGIN:VEVENT
DTSTART:20230531T150000Z
DTEND:20230531T170000Z
X-MICROSOFT-CDO-ALLDAYEVENT:FALSE
SUMMARY:Exploring your Market
DESCRIPTION:Who are your potential customers?\n\nBefore launching or growing a business\, it is important to identify your target market and new market segments. Is there a demand or growing demand for your product or service? Who is buying or selling something similar? All these questions and more must be studied to make key business decisions in your small business.\n\nLearn about the following\, plus more:\n\n-The importance of Market Research\n\n-Tools to conduct Market Research\n\n-Small businesses & their target markets\n\n-Relevant industry trends & what they mean\n\n-Competitors & how small businesses compare\n\n-Quantifying Market Research for business decisions\n\n*This in-person session is presented by the UTRGV SBDC and co-hosted by the RGV Hispanic Chamber of Commerce.\n\nRegister at link. Deadline applies
X-ALT-DESC;FMTTYPE=text/html:<div class="x11i5rnm xat24cr x1mh8g0r x1vvkbs xtlvy1s" style="margin: 0.5em 0px 0px\; overflow-wrap: break-word\; font-family: system-ui\, -apple-system\, &quot\;system-ui&quot\;\, &quot\;.SFNSText-Regular&quot\;\, sans-serif\; color: rgb(5\, 5\, 5)\; font-size: 15px\; background-color: rgb(255\, 255\, 255)\;">Who are your potential customers?</div>\n\n<div class="x11i5rnm xat24cr x1mh8g0r x1vvkbs xtlvy1s" style="margin: 0.5em 0px 0px\; overflow-wrap: break-word\; font-family: system-ui\, -apple-system\, &quot\;system-ui&quot\;\, &quot\;.SFNSText-Regular&quot\;\, sans-serif\; color: rgb(5\, 5\, 5)\; font-size: 15px\; background-color: rgb(255\, 255\, 255)\;">Before launching or growing a business\, it is important to identify your target market and new market segments. Is there a demand or growing demand for your product or service? Who is buying or selling something similar? All these questions and more must be studied to make key business decisions in your small business.</div>\n\n<div class="x11i5rnm xat24cr x1mh8g0r x1vvkbs xtlvy1s" style="margin: 0.5em 0px 0px\; overflow-wrap: break-word\; font-family: system-ui\, -apple-system\, &quot\;system-ui&quot\;\, &quot\;.SFNSText-Regular&quot\;\, sans-serif\; color: rgb(5\, 5\, 5)\; font-size: 15px\; background-color: rgb(255\, 255\, 255)\;">Learn about the following\, plus more:</div>\n\n<div class="x11i5rnm xat24cr x1mh8g0r x1vvkbs xtlvy1s" style="margin: 0.5em 0px 0px\; overflow-wrap: break-word\; font-family: system-ui\, -apple-system\, &quot\;system-ui&quot\;\, &quot\;.SFNSText-Regular&quot\;\, sans-serif\; color: rgb(5\, 5\, 5)\; font-size: 15px\; background-color: rgb(255\, 255\, 255)\;">-The importance of Market Research<br>\n-Tools to conduct Market Research<br>\n-Small businesses &amp\; their target markets<br>\n-Relevant industry trends &amp\; what they mean<br>\n-Competitors &amp\; how small businesses compare<br>\n-Quantifying Market Research for business decisions</div>\n\n<div class="x11i5rnm xat24cr x1mh8g0r x1vvkbs xtlvy1s" style="margin: 0.5em 0px 0px\; overflow-wrap: break-word\; font-family: system-ui\, -apple-system\, &quot\;system-ui&quot\;\, &quot\;.SFNSText-Regular&quot\;\, sans-serif\; color: rgb(5\, 5\, 5)\; font-size: 15px\; background-color: rgb(255\, 255\, 255)\;">*This in-person session is presented by the UTRGV SBDC and co-hosted by the RGV Hispanic Chamber of Commerce.</div>\n\n<div class="x11i5rnm xat24cr x1mh8g0r x1vvkbs xtlvy1s" style="margin: 0.5em 0px 0px\; overflow-wrap: break-word\; font-family: system-ui\, -apple-system\, &quot\;system-ui&quot\;\, &quot\;.SFNSText-Regular&quot\;\, sans-serif\; color: rgb(5\, 5\, 5)\; font-size: 15px\; background-color: rgb(255\, 255\, 255)\;">Register at link. Deadline applies</div>\n
LOCATION:Large Conference Room
UID:e.3411.547
SEQUENCE:3
DTSTAMP:20260424T211251Z
URL:https://business.rgvhcc.org/events/details/exploring-your-market-547
END:VEVENT

END:VCALENDAR
