BEGIN:VCALENDAR
VERSION:2.0
PRODID:-//ChamberMaster//Event Calendar 2.0//EN
METHOD:PUBLISH
X-PUBLISHED-TTL:P3D
REFRESH-INTERVAL:P3D
CALSCALE:GREGORIAN
BEGIN:VEVENT
DTSTART:20231012T170000Z
DTEND:20231012T180000Z
X-MICROSOFT-CDO-ALLDAYEVENT:FALSE
SUMMARY:Cybersecurity and Fraud Protection Lunch and Learn Workshop
DESCRIPTION:Learn how cybersecurity impacts your business and what you can do to avoid fraud
X-ALT-DESC;FMTTYPE=text/html:<span style="color: rgb(34\, 34\, 34)\; font-family: Arial\, Helvetica\, sans-serif\; font-size: small\; background-color: rgb(255\, 255\, 255)\;">Learn how cybersecurity impacts your business and what you can do to avoid fraud</span>
LOCATION:Chase Tower McAllen
UID:e.3411.639
SEQUENCE:3
DTSTAMP:20260424T152711Z
URL:https://business.rgvhcc.org/events/details/cybersecurity-and-fraud-protection-lunch-and-learn-workshop-639
END:VEVENT

END:VCALENDAR
