BEGIN:VCALENDAR
VERSION:2.0
PRODID:-//ChamberMaster//Event Calendar 2.0//EN
METHOD:PUBLISH
X-PUBLISHED-TTL:P3D
REFRESH-INTERVAL:P3D
CALSCALE:GREGORIAN
BEGIN:VEVENT
DTSTART:20231201T173000Z
DTEND:20231201T193000Z
X-MICROSOFT-CDO-ALLDAYEVENT:FALSE
SUMMARY:Compadre Meeting
DESCRIPTION:Come join us for our Monthly Compadre Meeting!\n\n\n\nEvery 1st Friday of the Month
X-ALT-DESC;FMTTYPE=text/html:Come join us for our Monthly Compadre Meeting!<br />\n<br />\nEvery 1st Friday of the Month
LOCATION:Main Event Entertainment
UID:e.3411.681
SEQUENCE:3
DTSTAMP:20260424T120738Z
URL:https://business.rgvhcc.org/events/details/compadre-meeting-681
END:VEVENT

END:VCALENDAR
