BEGIN:VCALENDAR
VERSION:2.0
PRODID:-//ChamberMaster//Event Calendar 2.0//EN
METHOD:PUBLISH
X-PUBLISHED-TTL:P3D
REFRESH-INTERVAL:P3D
CALSCALE:GREGORIAN
BEGIN:VEVENT
DTSTART:20230719T150000Z
DTEND:20230719T160000Z
X-MICROSOFT-CDO-ALLDAYEVENT:FALSE
SUMMARY:Business Immigration 101
DESCRIPTION:Join us for an eye-opening seminar on Business Immigration 101! Discover the fundamentals of immigration law\, business immigration\, citizenship\, family petitions\, and much more. We are thrilled to have Immigration Attorney Belia Pena as our esteemed speaker\, sharing her expertise and insights. Don't miss this opportunity to gain crucial knowledge for your business success. Save your seat now and be part of this informative session! #Business101 #ImmigrationLaw #KnowledgeIsPower #RGVHCCSeminar
X-ALT-DESC;FMTTYPE=text/html:<div><font color="#374151" face="Söhne\, ui-sans-serif\, system-ui\, -apple-system\, Segoe UI\, Roboto\, Ubuntu\, Cantarell\, Noto Sans\, sans-serif\, Helvetica Neue\, Arial\, Apple Color Emoji\, Segoe UI Emoji\, Segoe UI Symbol\, Noto Color Emoji"><span style="white-space-collapse: preserve\;">Join us for an eye-opening seminar on Business Immigration </span></font><span style="color: rgb(55\, 65\, 81)\; font-family: Söhne\, ui-sans-serif\, system-ui\, -apple-system\, &quot\;Segoe UI&quot\;\, Roboto\, Ubuntu\, Cantarell\, &quot\;Noto Sans&quot\;\, sans-serif\, &quot\;Helvetica Neue&quot\;\, Arial\, &quot\;Apple Color Emoji&quot\;\, &quot\;Segoe UI Emoji&quot\;\, &quot\;Segoe UI Symbol&quot\;\, &quot\;Noto Color Emoji&quot\;\; font-size: 13px\; white-space-collapse: preserve\; background-color: rgb(255\, 255\, 255)\;">101</span><font color="#374151" face="Söhne\, ui-sans-serif\, system-ui\, -apple-system\, Segoe UI\, Roboto\, Ubuntu\, Cantarell\, Noto Sans\, sans-serif\, Helvetica Neue\, Arial\, Apple Color Emoji\, Segoe UI Emoji\, Segoe UI Symbol\, Noto Color Emoji"><span style="white-space-collapse: preserve\;">! Discover the fundamentals of immigration law\, business immigration\, citizenship\, family petitions\, and much more. We are thrilled to have Immigration Attorney Belia Pena as our esteemed speaker\, sharing her expertise and insights. Don&#39\;t miss this opportunity to gain crucial knowledge for your business success. Save your seat now and be part of this informative session! #Business101 #ImmigrationLaw #KnowledgeIsPower #RGVHCCSeminar</span></font></div>\n\n<div>&nbsp\;</div>\n\n<div>&nbsp\;</div>\n\n<div>&nbsp\;</div>\n
LOCATION:801 E. Fern Suite #131 Mcallen\, TX LARGE CONFERENCE ROOM
UID:e.3411.570
SEQUENCE:3
DTSTAMP:20260424T184118Z
URL:https://business.rgvhcc.org/events/details/business-immigration-101-570
END:VEVENT

END:VCALENDAR
