BEGIN:VCALENDAR
VERSION:2.0
PRODID:-//ChamberMaster//Event Calendar 2.0//EN
METHOD:PUBLISH
X-PUBLISHED-TTL:P3D
REFRESH-INTERVAL:P3D
CALSCALE:GREGORIAN
BEGIN:VEVENT
DTSTART:20240104T173000Z
DTEND:20240104T190000Z
X-MICROSOFT-CDO-ALLDAYEVENT:FALSE
SUMMARY:Buen Provecho\, RGV - Quarterly Luncheon
DESCRIPTION:Prepare to join us at the upcoming quarterly luncheons "Buen Provecho RGV"\, meticulously crafted for members to forge new connections and strengthen ties with familiar faces in the RGVHCC Membership while also learning about upcoming events and updates for the year of 2024. This gathering\, generously sponsored by Sames Ford\, promises an enriching experience where\, attendees can anticipate the joy of discovering new partnerships with other business owners that defines our community. Join us as we create a tapestry of connections at this memorable luncheon. Your presence will undoubtedly enhance the spirit of camaraderie\, making this luncheon an opportunity for meaningful connections and shared experiences. We look forward to welcoming you and celebrating our vibrant community together
X-ALT-DESC;FMTTYPE=text/html:<span style="color:#000000\;"><span style="font-family:tahoma\;"><span style="font-size: 16px\; white-space-collapse: preserve\;">Prepare to join us at the upcoming quarterly luncheons &quot\;Buen Provecho RGV&quot\;\, meticulously crafted for members to forge new connections and strengthen ties with familiar faces in the RGVHCC Membership while also learning about upcoming events and updates for the year of 2024. This gathering\, generously sponsored by Sames Ford\, promises an enriching experience where\, attendees can anticipate the joy of discovering new partnerships with other business owners that defines our community. Join us as we create a tapestry of connections at this memorable luncheon. Your presence will undoubtedly enhance the spirit of camaraderie\, making this luncheon an opportunity for meaningful connections and shared experiences. We look forward to welcoming you and celebrating our vibrant community together</span></span></span>
LOCATION:3rd Floor Ballroom Casa De Palmas Hotel
UID:e.3411.673
SEQUENCE:3
DTSTAMP:20260424T105334Z
URL:https://business.rgvhcc.org/events/details/buen-provecho-rgv-quarterly-luncheon-673
END:VEVENT

END:VCALENDAR
