BEGIN:VCALENDAR
VERSION:2.0
PRODID:-//ChamberMaster//Event Calendar 2.0//EN
METHOD:PUBLISH
X-PUBLISHED-TTL:P3D
REFRESH-INTERVAL:P3D
CALSCALE:GREGORIAN
BEGIN:VEVENT
DTSTART:20230518T190000Z
DTEND:20230518T200000Z
X-MICROSOFT-CDO-ALLDAYEVENT:FALSE
SUMMARY:Art of Marketing
DESCRIPTION:What is marketing? Do you have a marketing plan for your business? This session will help new and existing businesses with critical information to create or refresh their marketing goals and objectives. Session highlights: -Understanding the 7 Steps of the Marketing Process -Identifying Your Target Market -Determining Your Pricing Strategy -Creating Customer Awareness -And much more!
X-ALT-DESC;FMTTYPE=text/html:<span style="color: rgb(35\, 35\, 51)\; font-family: &quot\;Helvetica Neue&quot\;\, Helvetica\, Arial\, sans-serif\; font-size: 14px\; white-space: pre-wrap\; background-color: rgb(255\, 255\, 255)\;">What is marketing? Do you have a marketing plan for your business? This session will help new and existing businesses with critical information to create or refresh their marketing goals and objectives. Session highlights: -Understanding the 7 Steps of the Marketing Process -Identifying Your Target Market -Determining Your Pricing Strategy -Creating Customer Awareness -And much more! </span>\n<div>&nbsp\;</div>\n
LOCATION:
UID:e.3411.541
SEQUENCE:3
DTSTAMP:20260424T212041Z
URL:https://business.rgvhcc.org/events/details/art-of-marketing-541
END:VEVENT

END:VCALENDAR
